BEGIN:VCALENDAR
VERSION:2.0
PRODID:-//wp-events-plugin.com//7.2.3//EN
TZID:America/Chicago
X-WR-TIMEZONE:America/Chicago
BEGIN:VEVENT
UID:2@theppclub.com
DTSTART:20250214T210000Z
DTEND:20250214T223000Z
DTSTAMP:20250117T171830Z
URL:https://theppclub.com/events/comedy-after-dark/
SUMMARY:Comedy After Dark
DESCRIPTION:Join us this Valentine's Day at The Pilates Place Comedy Club f
 or a spectacular double feature that promises an evening of laughter and l
 ove. Whether you're looking for a sweet start or a spicy finish to your ni
 ght\, our special shows cater to every taste.
ATTACH;FMTTYPE=image/jpeg:https://theppclub.com/wp-content/uploads/2025/01
 /CUPIDS.jpg
LOCATION:Pilates Place Comedy Club\, 33219 Forest W St\, Magnolia\, Texas\,
  77354\, United States
X-APPLE-STRUCTURED-LOCATION;VALUE=URI;X-ADDRESS=33219 Forest W St\, Magnoli
 a\, Texas\, 77354\, United States;X-APPLE-RADIUS=100;X-TITLE=Pilates Place
  Comedy Club:geo:0,0
END:VEVENT
END:VCALENDAR