BEGIN:VCALENDAR
VERSION:2.0
PRODID:-//wp-events-plugin.com//7.2.3//EN
TZID:America/Chicago
X-WR-TIMEZONE:America/Chicago
BEGIN:VEVENT
UID:7@theppclub.com
DTSTART:20250510T020000Z
DTEND:20250510T033000Z
DTSTAMP:20250428T142443Z
URL:https://theppclub.com/events/a-night-with-will-loden/
SUMMARY:A Night with Will Loden and Friends
DESCRIPTION:Get ready for a night of unstoppable laughter with our newest c
 omedy show on April 25th at The Pilates Place Comedy Club! Headlined by th
 e hilarious Nick Morrison and featuring a stellar lineup with host Ryan Ig
 ler\, Lee Cross\, and Royce Moore\, this is one show you won’t want to m
 iss.
ATTACH;FMTTYPE=image/jpeg:https://theppclub.com/wp-content/uploads/2025/04
 /https___cdn.evbuc_.com_images_1013729563_2358734979263_1_original.avif
LOCATION:Pilates Place Comedy Club\, 33219 Forest W St\, Magnolia\, Texas\,
  77354\, United States
X-APPLE-STRUCTURED-LOCATION;VALUE=URI;X-ADDRESS=33219 Forest W St\, Magnoli
 a\, Texas\, 77354\, United States;X-APPLE-RADIUS=100;X-TITLE=Pilates Place
  Comedy Club:geo:0,0
END:VEVENT
END:VCALENDAR